BEGIN:VCALENDAR
VERSION:2.0
PRODID:Maplewood, NJ Calendar Creator
METHOD:PUBLISH
BEGIN:VEVENT
DTSTAMP:20260112T145615
DTSTART:20260602T060000
DTEND:20260602T200000
SUMMARY:Primary Election Day
DESCRIPTION:<p><u><strong>Primary Election Day in New Jersey is June 10, 2025!</strong></u></p><p><u><strong>Polling Places</strong></u></p><ol>    <li>574 Valley Street (Maplewood Municipal Building) | Districts 1, 3, 6 </li>    <li>60 Woodland Road (The Woodland) | Districts 7, 8, 2, 17</li>    <li><strong>27 Berkshire Road (Clinton Elementary School) | Districts 4, 10, 16, 22 *CHANGED IN 2025!*</strong></li>    <li>646 Prospect Street (Prospect Presbyterian Church) | Districts 5, 15, 19, 20</li>    <li>120 Burnett Avenue (Maplewood Community Center) | Districts 9, 11, 12, 21</li>    <li>129 Boyden Avenue (Maplewood Emergency Management Building) | Districts 13, 14</li></ol><p><b><span style="text-decoration: underline;">Maplewood Drop Box Location (For Vote By Mail)</span><br></b>Hilton Branch Library, 1688 Springfield Ave, Maplewood 07040</p><h2>Find Your Polling Place</h2><p><a href="https://voter.svrs.nj.gov/polling-place-search" target="_blank">Polling Place Search Available Via The State's Website</a></p><h2>Find Local Dropbox Locations</h2><p><a href="https://www.nj.gov/state/elections/vote-secure-drop-boxes.shtml" target="_blank">Drop Box Locations Via The State's Website</a></p><h2>Track Your Mail In Ballot</h2><p><a href="https://www.nj.gov/state/elections/vote-track-my-ballot.shtml" target="_blank">Track The Progress Of Your Ballot Via The State's Website</a></p><p>&nbsp;</p>
X-ALT-DESC;FMTTYPE=text/html:<p><u><strong>Primary Election Day in New Jersey is June 10, 2025!</strong></u></p><p><u><strong>Polling Places</strong></u></p><ol>    <li>574 Valley Street (Maplewood Municipal Building) | Districts 1, 3, 6 </li>    <li>60 Woodland Road (The Woodland) | Districts 7, 8, 2, 17</li>    <li><strong>27 Berkshire Road (Clinton Elementary School) | Districts 4, 10, 16, 22 *CHANGED IN 2025!*</strong></li>    <li>646 Prospect Street (Prospect Presbyterian Church) | Districts 5, 15, 19, 20</li>    <li>120 Burnett Avenue (Maplewood Community Center) | Districts 9, 11, 12, 21</li>    <li>129 Boyden Avenue (Maplewood Emergency Management Building) | Districts 13, 14</li></ol><p><b><span style="text-decoration: underline;">Maplewood Drop Box Location (For Vote By Mail)</span><br></b>Hilton Branch Library, 1688 Springfield Ave, Maplewood 07040</p><h2>Find Your Polling Place</h2><p><a href="https://voter.svrs.nj.gov/polling-place-search" target="_blank">Polling Place Search Available Via The State's Website</a></p><h2>Find Local Dropbox Locations</h2><p><a href="https://www.nj.gov/state/elections/vote-secure-drop-boxes.shtml" target="_blank">Drop Box Locations Via The State's Website</a></p><h2>Track Your Mail In Ballot</h2><p><a href="https://www.nj.gov/state/elections/vote-track-my-ballot.shtml" target="_blank">Track The Progress Of Your Ballot Via The State's Website</a></p><p>&nbsp;</p>
LOCATION:
CLASS:PUBLIC
END:VEVENT
END:VCALENDAR
