BEGIN:VCALENDAR
VERSION:2.0
PRODID:Maplewood, NJ Calendar Creator
METHOD:PUBLISH
BEGIN:VEVENT
DTSTAMP:20260112T145321
DTSTART:20260526T000000
DTEND:20260526T235900
SUMMARY:Last day to apply by mail for a Mail-In Ballot for the Primary Election
DESCRIPTION:<p>To apply for Vote By Mail, you must do a <u>paper application</u>. </p><p>You can either use the voter registration application – which doesn’t require postage (<a href="https://nj.gov/state/elections/assets/pdf/forms-voter-registration/68-voter-registration-english-essex.pdf">https://nj.gov/state/elections/assets/pdf/forms-voter-registration/68-voter-registration-english-essex.pdf</a>) or the dedicated Vote By Mail Application – which does require postage (<a href="https://www.nj.gov/state/elections/assets/pdf/forms-vote-by-mail/vote-by-mail-english-essex.pdf">https://www.nj.gov/state/elections/assets/pdf/forms-vote-by-mail/vote-by-mail-english-essex.pdf</a>). </p><p>Both applications are to be <b>sent directly to the County Clerk.&nbsp;</b></p>
X-ALT-DESC;FMTTYPE=text/html:<p>To apply for Vote By Mail, you must do a <u>paper application</u>. </p><p>You can either use the voter registration application – which doesn’t require postage (<a href="https://nj.gov/state/elections/assets/pdf/forms-voter-registration/68-voter-registration-english-essex.pdf">https://nj.gov/state/elections/assets/pdf/forms-voter-registration/68-voter-registration-english-essex.pdf</a>) or the dedicated Vote By Mail Application – which does require postage (<a href="https://www.nj.gov/state/elections/assets/pdf/forms-vote-by-mail/vote-by-mail-english-essex.pdf">https://www.nj.gov/state/elections/assets/pdf/forms-vote-by-mail/vote-by-mail-english-essex.pdf</a>). </p><p>Both applications are to be <b>sent directly to the County Clerk.&nbsp;</b></p>
LOCATION:
CLASS:PUBLIC
END:VEVENT
END:VCALENDAR
