BEGIN:VCALENDAR
VERSION:2.0
PRODID:Maplewood, NJ Calendar Creator
METHOD:PUBLISH
BEGIN:VEVENT
DTSTAMP:20260112T145038
DTSTART:20260526T060000
DTEND:20260526T200000
SUMMARY:Early Voting Period - Primary
DESCRIPTION:<p align="center"><strong>*Maplewood <u>does not</u> have an early voting location*</strong></p><p>Hours will be Tuesday to Saturday, 10:00 a.m. to 8:00 p.m., and Sunday, 10:00 a.m. to 6:00 p.m.&nbsp;</p><ol>    <li>(Bloomfield) Watsessing Park Community Center, Bloomfield Ave., and Conger St. </li>    <li>(East Orange) East Orange City Hall, 44 City Hall Plaza </li>    <li>(Fairfield) Fairfield Community Building, 221 Hollywood Ave </li>    <li>(Irvington) Irvington Municipal Building, 1 Civic Square West</li>    <li>Newark:    <ol>        <li>Cherry Blossom Welcome Center: Branch Brook Park</li>        <li>Essex County Complex Parking Garage: West Market Street Entrance</li>        <li>Weequahic Park Community Center: Meeker and Elizabeth Avenue</li>        <li>West Side Park Community Center: 600 17<sup>th</sup> Street</li>    </ol>    </li>    <li>(Verona) Verona Community Center 880 Bloomfield Ave</li>    <li>(West Orange) New Education Center at South Mountain Recreation Complex, 560 Northfield Ave&nbsp;</li></ol>
X-ALT-DESC;FMTTYPE=text/html:<p align="center"><strong>*Maplewood <u>does not</u> have an early voting location*</strong></p><p>Hours will be Tuesday to Saturday, 10:00 a.m. to 8:00 p.m., and Sunday, 10:00 a.m. to 6:00 p.m.&nbsp;</p><ol>    <li>(Bloomfield) Watsessing Park Community Center, Bloomfield Ave., and Conger St. </li>    <li>(East Orange) East Orange City Hall, 44 City Hall Plaza </li>    <li>(Fairfield) Fairfield Community Building, 221 Hollywood Ave </li>    <li>(Irvington) Irvington Municipal Building, 1 Civic Square West</li>    <li>Newark:    <ol>        <li>Cherry Blossom Welcome Center: Branch Brook Park</li>        <li>Essex County Complex Parking Garage: West Market Street Entrance</li>        <li>Weequahic Park Community Center: Meeker and Elizabeth Avenue</li>        <li>West Side Park Community Center: 600 17<sup>th</sup> Street</li>    </ol>    </li>    <li>(Verona) Verona Community Center 880 Bloomfield Ave</li>    <li>(West Orange) New Education Center at South Mountain Recreation Complex, 560 Northfield Ave&nbsp;</li></ol>
LOCATION:
CLASS:PUBLIC
END:VEVENT
END:VCALENDAR
