BEGIN:VCALENDAR
VERSION:2.0
PRODID:Maplewood, NJ Calendar Creator
METHOD:PUBLISH
BEGIN:VEVENT
DTSTAMP:20260112T144914
DTSTART:20260520T000000
DTEND:20260520T235900
SUMMARY:The County Clerk's Office Begins Sending Sample Ballots For The Primary
DESCRIPTION:A digital copy of the sample ballot will be posted to&nbsp;https://www.maplewoodnj.gov/government/township-clerk/election#!/ as soon as it is available from the County Clerk's website at&nbsp;https://www.essexclerk.com/
X-ALT-DESC;FMTTYPE=text/html:A digital copy of the sample ballot will be posted to&nbsp;https://www.maplewoodnj.gov/government/township-clerk/election#!/ as soon as it is available from the County Clerk's website at&nbsp;https://www.essexclerk.com/
LOCATION:
CLASS:PUBLIC
END:VEVENT
END:VCALENDAR
